BEGIN:VCALENDAR
VERSION:2.0
PRODID:-//AIMA MSME - All India MSME Association - ECPv5.2.1.1//NONSGML v1.0//EN
CALSCALE:GREGORIAN
METHOD:PUBLISH
X-WR-CALNAME:AIMA MSME - All India MSME Association
X-ORIGINAL-URL:http://www.aima-msme.com
X-WR-CALDESC:Events for AIMA MSME - All India MSME Association
BEGIN:VTIMEZONE
TZID:Asia/Kolkata
BEGIN:STANDARD
TZOFFSETFROM:+0530
TZOFFSETTO:+0530
TZNAME:IST
DTSTART:20230101T000000
END:STANDARD
END:VTIMEZONE
BEGIN:VEVENT
DTSTART;TZID=Asia/Kolkata:20231030T130000
DTEND;TZID=Asia/Kolkata:20231030T170000
DTSTAMP:20260425T213601
CREATED:20231025T045151Z
LAST-MODIFIED:20231025T045242Z
UID:5401-1698670800-1698685200@www.aima-msme.com
SUMMARY:MoU Singing Ceremony- Invitation
DESCRIPTION:Dr. Homi Bhabha State University\, Mumbai is entering into MoU with All India MSME Association to encourage entrepreneurial mindsets among students of University. To be a entrepreneur\, self employed\, job provider and not job seeker. \nThis MoU will be signed on the occasion of 114th Birth Anniversary of Indian nuclear physicist Homi Jehangir Bhabha who is also known as the father of the Indian nuclear program.\nThis MoU will be signed in the auspicious presence of Prof. Dr. Rajanish Kamat -Vice Chancellor of HBSU \, Dr. Avinash K. Dalal (Nallawala) – Hon. Chancellor Nominee at HBSU Mc. Council & AIMA-MSME National President at Dr.Homi Bhabha State University on 30th Oct 2023 at 01.00 PM\nDr. Vilas Padhye \, Hon. Registrar of HBSU has invited AIMA-MSME Members to joined and grace the MoU Signing Ceremony.
URL:http://www.aima-msme.com/event/mou-singing-ceremony-invitation/
CATEGORIES:DR. HOMI BHABHA STATE UNIVERSITY (HBSU)
ATTACH;FMTTYPE=image/jpeg:http://www.aima-msme.com/wp-content/uploads/2023/10/mou-a1.jpg
END:VEVENT
BEGIN:VEVENT
DTSTART;TZID=Asia/Kolkata:20231030T130000
DTEND;TZID=Asia/Kolkata:20231030T170000
DTSTAMP:20260425T213601
CREATED:20231030T081536Z
LAST-MODIFIED:20231101T072612Z
UID:5406-1698670800-1698685200@www.aima-msme.com
SUMMARY:Grand MoU Signing Ceremony between HBSU & AIMA-MSME
DESCRIPTION:Dr.Homi Bhabha State University\, Mumbai entered into MoU (Memorandum of Understanding) with All India MSME Association on the occasion of 114th Birth Anniversary of Indian Nuclear Physicist Dr. Homi Jehangir Bhabha who is also known as the Father of the Indian Nuclear Program on 30th October 2023 at the e-learning studio of Dr Homi Bhabha State University in Mumbai.\nThe major goal of this MoU is to identify various opportunities & promoting entrepreneurship skills.\nThis collaboration will not only encourage entrepreneurial mindsets amongst the students of the uiversity but also will assist students to become self employed \, job provider and not job seeker to make “Aatmanirbhar Bharat.”\nThe MoU’s were signed and exchanged in the auspicious presence of Prof. Dr. Rajanish Kamat-Hon’ble Vice Chancellor of HBSU \, Dr. Avinash K. Dalal (Nallawala)-AIMA-MSME National President & Hon’ble Chancellor Nominee at Dr.Homi Bhabha State University \, AIMA-MSME Think Tank / Core Committee Members\, HBSU Management Council & Academic Council Board Members.
URL:http://www.aima-msme.com/event/grand-mou-signing-ceremony-between-hbsu-aima-msme/
CATEGORIES:DR. HOMI BHABHA STATE UNIVERSITY (HBSU)
ATTACH;FMTTYPE=image/jpeg:http://www.aima-msme.com/wp-content/uploads/2023/11/Grand-MoU-Signing-Ceremony-between-HBSU-AIMA-MSME.jpg
END:VEVENT
BEGIN:VEVENT
DTSTART;TZID=Asia/Kolkata:20231130T150000
DTEND;TZID=Asia/Kolkata:20231130T200000
DTSTAMP:20260425T213601
CREATED:20231116T065720Z
LAST-MODIFIED:20231212T043855Z
UID:5418-1701356400-1701374400@www.aima-msme.com
SUMMARY:All India MSME Association 13th Foundation Day
DESCRIPTION:
URL:http://www.aima-msme.com/event/all-india-msme-association-13th-foundation-day/
CATEGORIES:AIMA MSME
ATTACH;FMTTYPE=image/jpeg:http://www.aima-msme.com/wp-content/uploads/2023/11/AIMA-MSME-13th-Foundation-Day-Invitation_Page.jpg
END:VEVENT
END:VCALENDAR