BEGIN:VCALENDAR
VERSION:2.0
PRODID:-//AIMA MSME - All India MSME Association - ECPv5.2.1.1//NONSGML v1.0//EN
CALSCALE:GREGORIAN
METHOD:PUBLISH
X-WR-CALNAME:AIMA MSME - All India MSME Association
X-ORIGINAL-URL:http://www.aima-msme.com
X-WR-CALDESC:Events for AIMA MSME - All India MSME Association
BEGIN:VTIMEZONE
TZID:Asia/Kolkata
BEGIN:STANDARD
TZOFFSETFROM:+0530
TZOFFSETTO:+0530
TZNAME:IST
DTSTART:20240101T000000
END:STANDARD
END:VTIMEZONE
BEGIN:VEVENT
DTSTART;TZID=Asia/Kolkata:20240815T080000
DTEND;TZID=Asia/Kolkata:20240815T170000
DTSTAMP:20260421T194749
CREATED:20240815T101043Z
LAST-MODIFIED:20250918T101435Z
UID:6050-1723708800-1723741200@www.aima-msme.com
SUMMARY:Students Felicitation on the Eve of 78th Independence Day
DESCRIPTION:
URL:http://www.aima-msme.com/event/students-felicitation-on-the-eve-of-78th-independence-day/
CATEGORIES:Sundeep Trust
ATTACH;FMTTYPE=image/jpeg:http://www.aima-msme.com/wp-content/uploads/2025/09/sundeep-turst-78-independence-day.jpg
END:VEVENT
BEGIN:VEVENT
DTSTART;TZID=Asia/Kolkata:20240816T123000
DTEND;TZID=Asia/Kolkata:20240816T170000
DTSTAMP:20260421T194749
CREATED:20240816T070204Z
LAST-MODIFIED:20240821T071045Z
UID:5596-1723811400-1723827600@www.aima-msme.com
SUMMARY:Book Launch of Power Within The Leadership Legacy of Narendra Modi by Dr.R.Balasubramaniam
DESCRIPTION:16th Aug 2024 at Nehru Center – Dr.Avinash K.Dalal (Nallawala) National President\, Omraj Patil -National Coordinator \, Shri.Jayesh Barot\, Shri.Suresh Kumar Subrahmaniam – Think Tank / Core Committee Member of AIMA-MSME & Chandratejas Patil attended Book launch ceremony\, of the book “Power Within The Leadership Legacy of Narendra Modi” by Dr.R.Balasubramaniam in auspicious presence of Chief Guest Shri.N.Chandrashekaran – Chairman Tata Sons Ltd. \, Shri.Aashish Kumar Chauhan – CEO & MD NSE Ltd \, Dr.Swati D.Piramal – Vice Chairman of Piramal Group \, Shri.Gaurang Prabhudas Ji \, and other dignitaries.
URL:http://www.aima-msme.com/event/book-launch-of-power-within-the-leadership-legacy-of-narendra-modi-by-dr-r-balasubramaniam/
CATEGORIES:AIMA MSME
ATTACH;FMTTYPE=image/jpeg:http://www.aima-msme.com/wp-content/uploads/2024/08/Power-Within-The-Leadership-Legacy-of-Narendra-Modi.jpg
END:VEVENT
BEGIN:VEVENT
DTSTART;TZID=Asia/Kolkata:20240817T080000
DTEND;TZID=Asia/Kolkata:20240817T170000
DTSTAMP:20260421T194749
CREATED:20240818T101517Z
LAST-MODIFIED:20250918T101830Z
UID:6053-1723881600-1723914000@www.aima-msme.com
SUMMARY:Visit to Aditya Educational Campus\, Borivali\, Mumbai
DESCRIPTION:ACA proudly welcomed Dr. Avinash Dalal\, a renowned social servant and Trustee of Sundeep Trust\, to our institute. During his visit\, Dr. Dalal awarded a scholarship to one of our deserving students and solidified a new partnership through an MOU aimed at advancing women empowerment initiatives. This collaboration marks a significant step in our shared commitment to making a lasting impact in our community.
URL:http://www.aima-msme.com/event/visit-to-aditya-educational-campus-borivali-mumbai/
CATEGORIES:Sundeep Trust
ATTACH;FMTTYPE=image/jpeg:http://www.aima-msme.com/wp-content/uploads/2025/09/sundeep-trust-Visit-to-Aditya-Educational-Campus.jpg
END:VEVENT
BEGIN:VEVENT
DTSTART;TZID=Asia/Kolkata:20240819T093000
DTEND;TZID=Asia/Kolkata:20240819T110000
DTSTAMP:20260421T194749
CREATED:20240819T083749Z
LAST-MODIFIED:20240822T084536Z
UID:5613-1724059800-1724065200@www.aima-msme.com
SUMMARY:On the occasion of Rakhshabandhan
DESCRIPTION:
URL:http://www.aima-msme.com/event/on-the-occasion-of-rakhshabandhan/
CATEGORIES:General Event
ATTACH;FMTTYPE=image/jpeg:http://www.aima-msme.com/wp-content/uploads/2024/08/raksha-bandhan-2024-kal.jpg
END:VEVENT
END:VCALENDAR