BEGIN:VCALENDAR
VERSION:2.0
PRODID:-//AIMA MSME - All India MSME Association - ECPv5.2.1.1//NONSGML v1.0//EN
CALSCALE:GREGORIAN
METHOD:PUBLISH
X-WR-CALNAME:AIMA MSME - All India MSME Association
X-ORIGINAL-URL:http://www.aima-msme.com
X-WR-CALDESC:Events for AIMA MSME - All India MSME Association
BEGIN:VTIMEZONE
TZID:Asia/Kolkata
BEGIN:STANDARD
TZOFFSETFROM:+0530
TZOFFSETTO:+0530
TZNAME:IST
DTSTART:20250101T000000
END:STANDARD
END:VTIMEZONE
BEGIN:VEVENT
DTSTART;TZID=Asia/Kolkata:20251204T080000
DTEND;TZID=Asia/Kolkata:20251204T170000
DTSTAMP:20260420T154947
CREATED:20251204T125136Z
LAST-MODIFIED:20251209T025816Z
UID:6130-1764835200-1764867600@www.aima-msme.com
SUMMARY:Sundeep Trust 64th Foundation Day & All India MSME Association 14th Foundation Day
DESCRIPTION:I am delighted to share the glimpses of the 64th Foundation Day of Sundeep Trust and the 14th Foundation Day of All India MSME Association (AIMA-MSME)\, celebrated on 11th November 2025 at the BSE International Convention Hall\, Mumbai.\n\nhttp://www.aima-msme.com/wp-content/uploads/2025/12/14th-Foundation-Day.mp4
URL:http://www.aima-msme.com/event/sundeep-trust-64th-foundation-day-all-india-msme-association-14th-foundation-day/
CATEGORIES:AIMA MSME,Sundeep Trust
ATTACH;FMTTYPE=image/jpeg:http://www.aima-msme.com/wp-content/uploads/2025/12/14th-Foundation-Day.jpg
END:VEVENT
BEGIN:VEVENT
DTSTART;TZID=Asia/Kolkata:20251205T080000
DTEND;TZID=Asia/Kolkata:20251205T170000
DTSTAMP:20260420T154947
CREATED:20251205T025826Z
LAST-MODIFIED:20251209T031536Z
UID:6134-1764921600-1764954000@www.aima-msme.com
SUMMARY:Mr Harshal Dhirawani Think Tank Core Committee Member of AIMA-MSME News Interview on ET Now Swadeshi
DESCRIPTION:http://www.aima-msme.com/wp-content/uploads/2025/12/ET-Now-Swadeshi.mp4
URL:http://www.aima-msme.com/event/mr-harshal-dhirawani-think-tank-core-committee-member-of-aima-msme-news-interview-on-et-now-swadeshi/
CATEGORIES:AIMA MSME,General Event
ATTACH;FMTTYPE=image/jpeg:http://www.aima-msme.com/wp-content/uploads/2025/12/ET-Now-Swadeshi.jpg
END:VEVENT
BEGIN:VEVENT
DTSTART;TZID=Asia/Kolkata:20251220T080000
DTEND;TZID=Asia/Kolkata:20251220T170000
DTSTAMP:20260420T154947
CREATED:20251220T073217Z
LAST-MODIFIED:20251226T073407Z
UID:6139-1766217600-1766250000@www.aima-msme.com
SUMMARY:Felicitation of Shri. M. Sankar\, Past Chairman of Textile Machinery Manufacturer's Association (India) by Dr.Avinash Ji & Omraj
DESCRIPTION:On December 20th 2025\, Dr. Avinash K. Dalal (Nallawala)\, National President of AIMA MSME & Mr. Omraj Patil\, National Coordinator of AIMA-MSME\, were invited for the Farewell Ceremony of Shri. M. Sankar Past Chairman of Textile Machinery Manufacturer’s Association (India) at Daman and invitation was extended by Shri. Prashant Mangukia\, Chairman\, Shri. Sachin Arora Executive Director\, Shri. Ishan Mehta Business Development Manager & Members of the Executive Council of of Textile Machinery Manufacturer’s Association (India).\nTMMA (India) is a Honorary Reciprocal Member of All India MSME Association.
URL:http://www.aima-msme.com/event/felicitation-of-shri-m-sankar-past-chairman-of-textile-machinery-manufacturers-association-india-by-dr-avinash-ji-omraj/
CATEGORIES:AIMA MSME,General Event
ATTACH;FMTTYPE=image/jpeg:http://www.aima-msme.com/wp-content/uploads/2025/12/Felicitation.jpg
END:VEVENT
END:VCALENDAR